BEGIN:VCALENDAR
VERSION:2.0
BEGIN:VEVENT
URL:https://www.acses-asso.com/evenements/viewevent/22-agora-gala-des-directeurs-securite 
DTSTART:20240319T183000
DTEND:20240319T234500
SUMMARY:Agora - Gala des directeurs Sécurité
DESCRIPTION:<span>Partenaire associatif de l'ACSES Association des Chargés de Sécurité en Établissement de Soins, l'✔ Agora des Directeurs de la Sécurité-Sûreté tiendra son Gala des directeurs Sécurité le 19 Mars prochain au prestigieux Pavillon Cambon Capucines à Paris, pour sa 13ème éditions.</span><div><span>Rendez-vous annuel de quatre cents directeurs sécurité de grandes entreprises, il aura pour thème cette année « La sécurité au service de l’attractivité de la nation »
</span><div><br /></div></div>
LOCATION:Pavillon Cambon Capucines à Paris
END:VEVENT
END:VCALENDAR