BEGIN:VCALENDAR
VERSION:2.0
BEGIN:VEVENT
URL:https://www.acses-asso.com/evenements/viewevent/13-preventica 
DTSTART:20190521T090000
DTEND:20190523T200000
SUMMARY:Préventica
DESCRIPTION:<br />
LOCATION:Paris Porte de Versailles
END:VEVENT
END:VCALENDAR